BEGIN:VCALENDAR
VERSION:2.0
PRODID:-//International Management Solutions, Inc. - ECPv6.15.17//NONSGML v1.0//EN
CALSCALE:GREGORIAN
METHOD:PUBLISH
X-WR-CALNAME:International Management Solutions, Inc.
X-ORIGINAL-URL:https://intlms.com
X-WR-CALDESC:Events for International Management Solutions, Inc.
REFRESH-INTERVAL;VALUE=DURATION:PT1H
X-Robots-Tag:noindex
X-PUBLISHED-TTL:PT1H
BEGIN:VTIMEZONE
TZID:America/Halifax
BEGIN:DAYLIGHT
TZOFFSETFROM:-0400
TZOFFSETTO:-0300
TZNAME:ADT
DTSTART:20160313T060000
END:DAYLIGHT
BEGIN:STANDARD
TZOFFSETFROM:-0300
TZOFFSETTO:-0400
TZNAME:AST
DTSTART:20161106T050000
END:STANDARD
BEGIN:DAYLIGHT
TZOFFSETFROM:-0400
TZOFFSETTO:-0300
TZNAME:ADT
DTSTART:20170312T060000
END:DAYLIGHT
BEGIN:STANDARD
TZOFFSETFROM:-0300
TZOFFSETTO:-0400
TZNAME:AST
DTSTART:20171105T050000
END:STANDARD
BEGIN:DAYLIGHT
TZOFFSETFROM:-0400
TZOFFSETTO:-0300
TZNAME:ADT
DTSTART:20180311T060000
END:DAYLIGHT
BEGIN:STANDARD
TZOFFSETFROM:-0300
TZOFFSETTO:-0400
TZNAME:AST
DTSTART:20181104T050000
END:STANDARD
END:VTIMEZONE
BEGIN:VEVENT
DTSTART;VALUE=DATE:20170604
DTEND;VALUE=DATE:20170606
DTSTAMP:20260421T075601
CREATED:20170526T202440Z
LAST-MODIFIED:20170626T214850Z
UID:1157-1496534400-1496707199@intlms.com
SUMMARY:UbiMobility Délegation
DESCRIPTION:IMS at Ubimobility 2017 in Detroit on June 4-5th  ! \nFrom automotive centers in Detroit to the venture capitalist firms in San Francisco\, UbiMobility is a two week immersion program for the top 8 selected participants in the connected/autonomous vehicle industry.  The delegation is organized by BusinessFrance and connects U.S. Automotive experts with the delegates.  The program offers 10 months of personalized collaboration beyond the two week immersive trip. \nMeet with Antoine Guillaud\, President of IMS\, June 4-5th at the UbiMobility delegation\, who will be giving a presentation about “Doing Business in the US – Fiscal\, legal and social aspects“ to the 8 French startups.
URL:https://intlms.com/event/ubimobility-delegation/
LOCATION:Détroit\, MI\, Detroit\, United States
CATEGORIES:Conferences & Seminars
END:VEVENT
BEGIN:VEVENT
DTSTART;VALUE=DATE:20170606
DTEND;VALUE=DATE:20170610
DTSTAMP:20260421T075601
CREATED:20170526T200659Z
LAST-MODIFIED:20170626T215007Z
UID:1144-1496707200-1497052799@intlms.com
SUMMARY:Internet Retailer Conference Exhibition
DESCRIPTION:Join IMS at the Internet Retail Conference Exhibition at McCormick Place West\, in Chicago on June 6th. \nThe show is curated by the expert editorial staff at Internet Retailer magazine. The largest e-commerce tradeshow in the industry\, the show will feature nearly 600 vendors.  Solution providers and vendors covering all categories of: marketing\, fulfillment\, e-commerce platforms and new retail technology come together to bring a network of solutions.  More information regarding the show available on the IRCE official website.
URL:https://intlms.com/event/internet-retailer-conference/
LOCATION:McCormick Place\, 2301 S Martin Luther King Dr\, Chicago\,\, IL\, 60616\, United States
CATEGORIES:Tradeshows
END:VEVENT
BEGIN:VEVENT
DTSTART;VALUE=DATE:20170607
DTEND;VALUE=DATE:20170608
DTSTAMP:20260421T075601
CREATED:20170613T143956Z
LAST-MODIFIED:20170626T214821Z
UID:1247-1496793600-1496879999@intlms.com
SUMMARY:Laurence Carels\, zal aanwezig zijn bij Metaalunie te Nieuwegein voor een consulting sessie !
DESCRIPTION:Laurence Carels\, onze Benelux Manager\, zal aanwezig zijn bij Metaalunie te Nieuwegein voor een consulting sessie. \nAls u vragen zou hebben over zakendoen in de VS op fiscaal\, sociaal en financieel vlak\, aarzel zeker niet om een meeting met haar te vragen op onderstaand email adres\, info@intlms.com \nLaurence Carels\, our Benelux Manager will be at Koninklijke Metaalunie on June 7th for a consulting session. If you have any question regarding doing business in the U.S. or any fiscal and social subject – and would like to set-up a meeting with her do not hesitate to contact us at info@intlms.com
URL:https://intlms.com/event/laurence-carels-zal-aanwezig-zijn-bij-metaalunie-te-nieuwegein-voor-een-consulting-sessie/
LOCATION:Koninklijke Metaalunie\, Einsteinbaan 1\, Nieuwegein\, NJ\, 3439\, Netherlands
CATEGORIES:Networking Events
END:VEVENT
BEGIN:VEVENT
DTSTART;TZID=America/Halifax:20170608T180000
DTEND;TZID=America/Halifax:20170608T210000
DTSTAMP:20260421T075601
CREATED:20170526T203745Z
LAST-MODIFIED:20170626T214718Z
UID:1179-1496944800-1496955600@intlms.com
SUMMARY:UbiMobility Cocktail
DESCRIPTION:International Management Solutions Inc will be present at the French Tech\, Innovation & Savoir-Faire in Connected & Autonomous Vehicles: UbiMobility 2017 Delegation organized by the FACC MI and Business France. \nThe FACC-Michigan and Business France will host for the 2nd year an exclusive panel discussion and networking reception with 8 of the most promising French companies in connected and autonomous vehicles. Ubimobility provides the opportunity for these eight companies to present their innovative services and products to the automakers\, suppliers\, venture capitalists\, and research communities in the Detroit area. \nAntoine will be available to answer all your question regarding doing business in the U.S. or any fiscal\, legal and social subject. If you would like to meet with him\, please contact us at info@intlms.com
URL:https://intlms.com/event/ubimobility-cocktail/
LOCATION:NextEnergy Center\, 461 Burroughs \, Detroit\, 48202\, United States
CATEGORIES:Networking Events
END:VEVENT
BEGIN:VEVENT
DTSTART;VALUE=DATE:20170614
DTEND;VALUE=DATE:20170617
DTSTAMP:20260421T075601
CREATED:20170526T201055Z
LAST-MODIFIED:20170626T214656Z
UID:1148-1497398400-1497657599@intlms.com
SUMMARY:OMTEC
DESCRIPTION:Antoine Guillaud and Sydney Fleurance will be at OMTEC 2017 the 13th Annual Orthopaedic Manufacturing & Technology Exposition and Conference taking place at the Donald E. Stephens Convention Center in Chicago June 14-15th.  The international exposition offers opportunities for suppliers\, service providers\, Orthopaedic OEM professionals from the industry connect. \nIf you would like to set-up a meeting feel free to contact us at info@intlms.com
URL:https://intlms.com/event/omtec/
LOCATION:Donald E. Stephens Convention Center\, 5555 N River Rd\, Rosement\, IL\, 60018\, United States
CATEGORIES:Conferences & Seminars
END:VEVENT
BEGIN:VEVENT
DTSTART;TZID=America/Halifax:20170620T180000
DTEND;TZID=America/Halifax:20170620T203000
DTSTAMP:20260421T075601
CREATED:20170526T201658Z
LAST-MODIFIED:20170626T015445Z
UID:1151-1497981600-1497990600@intlms.com
SUMMARY:BBQ FACC Chicago 2017
DESCRIPTION:Enjoy an evening on the terrace of the Café des Architectes at Sofitel Chicago Water Tower. Meet with FACC-Chicago board members\, it will be a great opportunity to network with members and non-members. Antoine Guillaud\, President of IMS and board member\, and Sydney Fleurance\, IMS Marketing Manager\, will be available to answer any fiscal\, legal and social question you may have.
URL:https://intlms.com/event/bbq-facc-chicago/
LOCATION:Sofitel Chicago Water Tower\, 20 E Chestnut Street\, Chicago\, IL\, 60611\, United States
CATEGORIES:Networking Events
END:VEVENT
BEGIN:VEVENT
DTSTART;TZID=America/Halifax:20170621T180000
DTEND;TZID=America/Halifax:20170621T210000
DTSTAMP:20260421T075601
CREATED:20170612T211205Z
LAST-MODIFIED:20170626T015510Z
UID:1208-1498068000-1498078800@intlms.com
SUMMARY:How to do Business in the US - Fifteen24 & IMS
DESCRIPTION:International Management Solutions Inc. and Fifteen24 are happy to present “How to do business in the US?” seminar. Mathieu Lanssens\, CEO of Fifteen24 and Laurence Carels\, IMS Benelux Manager\, will give a presentation (see program below)\, followed by a networking meeting. \nMathieu and Laurence will both be available to answer any questions you may have regarding the launch and development of your business in the US. \n6-7 pm : Introduction by Mathieu Lanssens: Who is Fifteen24 ? \nThe story of Fifteen24. From a dream\, to a concept\, to a startup in New York City. \nTheir services and their mission- a  4 month program advising entrepreneurs who have the ambition and dream to launch their business in U.S. \n7-7.30pm : Laurence Carels\, IMS Benelux Manager – Doing business in the US : Practical matters. \nWho is IMS? An accounting\, tax and consulting firm dedicated to assisting European companies with setting up their businesses in the US. \nLaurence will present an overview of fiscal\, social\, and set-up aspects you need to know. \n7.30-8pm : Networking with American snacks & drinks. \nSign up for this complimentary event by registering here !
URL:https://intlms.com/event/1208/
LOCATION:Fifteen24\, 106 Ferdinand Lousbergskaai \, Gent\, 9000\, Belgium
END:VEVENT
BEGIN:VEVENT
DTSTART;VALUE=DATE:20170627
DTEND;VALUE=DATE:20170629
DTSTAMP:20260421T075601
CREATED:20170627T203709Z
LAST-MODIFIED:20170629T222312Z
UID:1282-1498521600-1498694399@intlms.com
SUMMARY:Meet with our IMS team member at the French Touch Conference in NYC
DESCRIPTION:Sydney Fleurance will be participating at The French Touch Conference in NYC on June 27th & 28th ! \nSydney will be available to answer your questions regarding doing business in the U.S. and give you more information about our accounting firm and services. If you would like to set-up a meeting feel free to contact us at info@intlms.com \nFor more information regarding the event : http://lafrenchtouchconference.net/new_york/2017/ \n  \n  \n 
URL:https://intlms.com/event/meet-with-our-ims-team-member-at-the-french-touch-conference-in-nyc/
LOCATION:French Touch NYC\, 849 6th Avenue \, NYC\, NY\, United States
END:VEVENT
END:VCALENDAR