BEGIN:VCALENDAR
VERSION:2.0
PRODID:-//International Management Solutions, Inc. - ECPv6.15.17//NONSGML v1.0//EN
CALSCALE:GREGORIAN
METHOD:PUBLISH
X-WR-CALNAME:International Management Solutions, Inc.
X-ORIGINAL-URL:https://intlms.com
X-WR-CALDESC:Events for International Management Solutions, Inc.
REFRESH-INTERVAL;VALUE=DURATION:PT1H
X-Robots-Tag:noindex
X-PUBLISHED-TTL:PT1H
BEGIN:VTIMEZONE
TZID:America/Halifax
BEGIN:DAYLIGHT
TZOFFSETFROM:-0400
TZOFFSETTO:-0300
TZNAME:ADT
DTSTART:20160313T060000
END:DAYLIGHT
BEGIN:STANDARD
TZOFFSETFROM:-0300
TZOFFSETTO:-0400
TZNAME:AST
DTSTART:20161106T050000
END:STANDARD
BEGIN:DAYLIGHT
TZOFFSETFROM:-0400
TZOFFSETTO:-0300
TZNAME:ADT
DTSTART:20170312T060000
END:DAYLIGHT
BEGIN:STANDARD
TZOFFSETFROM:-0300
TZOFFSETTO:-0400
TZNAME:AST
DTSTART:20171105T050000
END:STANDARD
BEGIN:DAYLIGHT
TZOFFSETFROM:-0400
TZOFFSETTO:-0300
TZNAME:ADT
DTSTART:20180311T060000
END:DAYLIGHT
BEGIN:STANDARD
TZOFFSETFROM:-0300
TZOFFSETTO:-0400
TZNAME:AST
DTSTART:20181104T050000
END:STANDARD
END:VTIMEZONE
BEGIN:VEVENT
DTSTART;VALUE=DATE:20170105
DTEND;VALUE=DATE:20170109
DTSTAMP:20260423T060303
CREATED:20170508T233429Z
LAST-MODIFIED:20170626T215107Z
UID:1011-1483574400-1483919999@intlms.com
SUMMARY:Join IMS at CES 2017 organized by the Consumer Technology Association
DESCRIPTION:Antoine Guillaud\, President of IMS will be present at the CES Exhibition\, January 5-8\, 2017 in Las Vegas. \nCES spans through the entire consumer technology ecosystem- the show is divided into three exhibits arranged by market-specific product categories and marketplaces.  The show includes everything from keynote addresses\, conference sessions\, events\, and awards. CES is a key convention for the consumer technology industry. \nFor more information please visit the official CES website.  If you’d like to schedule a meeting with Antoine or if you would like more information regarding doing business in the U.S. please contact our office us at info@intlms.com
URL:https://intlms.com/event/join-ims-at-ces-2017-organized-by-the-consumer-technology-association/
LOCATION:Las Vegas\, NV
CATEGORIES:Tradeshows
END:VEVENT
BEGIN:VEVENT
DTSTART;VALUE=DATE:20170124
DTEND;VALUE=DATE:20170125
DTSTAMP:20260423T060303
CREATED:20170524T153642Z
LAST-MODIFIED:20170626T215056Z
UID:1120-1485216000-1485302399@intlms.com
SUMMARY:IMS in Bordeaux
DESCRIPTION:Antoine Guillaud sera à Bordeaux le mardi 24 janvier pour présenter Perspectives fiscales sur une implantation réussie aux Etats-Unis. Cette présentation se tiendra lors de la Conférence « Pourquoi investir aux Etats-Unis? » organisée par Select USA et le Consulat des Etats-Unis de Bordeaux\, Daniel Hall.
URL:https://intlms.com/event/ims-in-bordeaux/
LOCATION:Bordeaux\, France\, Bordeaux\, France
CATEGORIES:Conferences & Seminars
END:VEVENT
BEGIN:VEVENT
DTSTART;VALUE=DATE:20170125
DTEND;VALUE=DATE:20170126
DTSTAMP:20260423T060303
CREATED:20170524T153952Z
LAST-MODIFIED:20170626T215044Z
UID:1122-1485302400-1485388799@intlms.com
SUMMARY:IMS in Toulouse
DESCRIPTION:Antoine Guillaud\, Président d’IMS interviendra à Toulouse le mercredi 25 janvier lors de la Conférence « Préparer une implantation aux USA » organisée par le Consulat des Etats-Unis de Toulouse et la CCI Midi-Pyrénées\, en partenariat avec Select USA.
URL:https://intlms.com/event/ims-in-toulouse/
LOCATION:Toulouse\, France\, Toulouse\, France
CATEGORIES:Conferences & Seminars
END:VEVENT
BEGIN:VEVENT
DTSTART;VALUE=DATE:20170126
DTEND;VALUE=DATE:20170127
DTSTAMP:20260423T060303
CREATED:20170524T154709Z
LAST-MODIFIED:20170626T215101Z
UID:1124-1485388800-1485475199@intlms.com
SUMMARY:IMS in Marseille
DESCRIPTION:Jeudi 26 Janvier 2017\, Antoine Guillaud parlera d’implantation aux Etats-Unis lors de la Conférence « Doing Business aux Etats-Unis : Considération Juridiques\, fiscales & Sociales » organisée par la CCI International Provence Alpes Côte d’Azur.
URL:https://intlms.com/event/ims-in-marseille/
LOCATION:Marseille\, France\, Marseille\, France
CATEGORIES:Conferences & Seminars
END:VEVENT
END:VCALENDAR