BEGIN:VCALENDAR
VERSION:2.0
PRODID:-//International Management Solutions, Inc. - ECPv6.15.17//NONSGML v1.0//EN
CALSCALE:GREGORIAN
METHOD:PUBLISH
X-ORIGINAL-URL:https://intlms.com
X-WR-CALDESC:Events for International Management Solutions, Inc.
REFRESH-INTERVAL;VALUE=DURATION:PT1H
X-Robots-Tag:noindex
X-PUBLISHED-TTL:PT1H
BEGIN:VTIMEZONE
TZID:America/Halifax
BEGIN:DAYLIGHT
TZOFFSETFROM:-0400
TZOFFSETTO:-0300
TZNAME:ADT
DTSTART:20150308T060000
END:DAYLIGHT
BEGIN:STANDARD
TZOFFSETFROM:-0300
TZOFFSETTO:-0400
TZNAME:AST
DTSTART:20151101T050000
END:STANDARD
BEGIN:DAYLIGHT
TZOFFSETFROM:-0400
TZOFFSETTO:-0300
TZNAME:ADT
DTSTART:20160313T060000
END:DAYLIGHT
BEGIN:STANDARD
TZOFFSETFROM:-0300
TZOFFSETTO:-0400
TZNAME:AST
DTSTART:20161106T050000
END:STANDARD
BEGIN:DAYLIGHT
TZOFFSETFROM:-0400
TZOFFSETTO:-0300
TZNAME:ADT
DTSTART:20170312T060000
END:DAYLIGHT
BEGIN:STANDARD
TZOFFSETFROM:-0300
TZOFFSETTO:-0400
TZNAME:AST
DTSTART:20171105T050000
END:STANDARD
END:VTIMEZONE
BEGIN:VEVENT
DTSTART;VALUE=DATE:20160912
DTEND;VALUE=DATE:20160918
DTSTAMP:20260423T122243
CREATED:20170524T141227Z
LAST-MODIFIED:20170626T215136Z
UID:1115-1473638400-1474156799@intlms.com
SUMMARY:Meet IMS at the IMTS tradeshow September 16\, 2016
DESCRIPTION:IMTS (International Manufacturing Technology Show) will take place September 12-17th at the McCormick Place in Chicago. \nJoin IMS on September 16th and meet Laurence Carels who will be present at the largest industrial tradeshow in the region exhibiting 2\,000 companies and over 114\,000 industrial decision-makers. The AMT (Association for Manufacturing Technology) show takes place every two years and is aimed toward providing industries with modern solutions. For more information please visit the official IMTS website.
URL:https://intlms.com/event/meet-ims-at-the-imts-tradeshow-september-16-2016/
LOCATION:McCormick Place\, 2301 S Martin Luther King Dr\, Chicago\,\, IL\, 60616\, United States
CATEGORIES:Tradeshows
END:VEVENT
END:VCALENDAR