BEGIN:VCALENDAR
VERSION:2.0
PRODID:-//International Management Solutions, Inc. - ECPv6.15.17//NONSGML v1.0//EN
CALSCALE:GREGORIAN
METHOD:PUBLISH
X-WR-CALNAME:International Management Solutions, Inc.
X-ORIGINAL-URL:https://intlms.com
X-WR-CALDESC:Events for International Management Solutions, Inc.
REFRESH-INTERVAL;VALUE=DURATION:PT1H
X-Robots-Tag:noindex
X-PUBLISHED-TTL:PT1H
BEGIN:VTIMEZONE
TZID:Europe/Brussels
BEGIN:DAYLIGHT
TZOFFSETFROM:+0100
TZOFFSETTO:+0200
TZNAME:CEST
DTSTART:20170326T010000
END:DAYLIGHT
BEGIN:STANDARD
TZOFFSETFROM:+0200
TZOFFSETTO:+0100
TZNAME:CET
DTSTART:20171029T010000
END:STANDARD
BEGIN:DAYLIGHT
TZOFFSETFROM:+0100
TZOFFSETTO:+0200
TZNAME:CEST
DTSTART:20180325T010000
END:DAYLIGHT
BEGIN:STANDARD
TZOFFSETFROM:+0200
TZOFFSETTO:+0100
TZNAME:CET
DTSTART:20181028T010000
END:STANDARD
BEGIN:DAYLIGHT
TZOFFSETFROM:+0100
TZOFFSETTO:+0200
TZNAME:CEST
DTSTART:20190331T010000
END:DAYLIGHT
BEGIN:STANDARD
TZOFFSETFROM:+0200
TZOFFSETTO:+0100
TZNAME:CET
DTSTART:20191027T010000
END:STANDARD
END:VTIMEZONE
BEGIN:VTIMEZONE
TZID:America/Halifax
BEGIN:DAYLIGHT
TZOFFSETFROM:-0400
TZOFFSETTO:-0300
TZNAME:ADT
DTSTART:20150308T060000
END:DAYLIGHT
BEGIN:STANDARD
TZOFFSETFROM:-0300
TZOFFSETTO:-0400
TZNAME:AST
DTSTART:20151101T050000
END:STANDARD
BEGIN:DAYLIGHT
TZOFFSETFROM:-0400
TZOFFSETTO:-0300
TZNAME:ADT
DTSTART:20160313T060000
END:DAYLIGHT
BEGIN:STANDARD
TZOFFSETFROM:-0300
TZOFFSETTO:-0400
TZNAME:AST
DTSTART:20161106T050000
END:STANDARD
BEGIN:DAYLIGHT
TZOFFSETFROM:-0400
TZOFFSETTO:-0300
TZNAME:ADT
DTSTART:20170312T060000
END:DAYLIGHT
BEGIN:STANDARD
TZOFFSETFROM:-0300
TZOFFSETTO:-0400
TZNAME:AST
DTSTART:20171105T050000
END:STANDARD
BEGIN:DAYLIGHT
TZOFFSETFROM:-0400
TZOFFSETTO:-0300
TZNAME:ADT
DTSTART:20180311T060000
END:DAYLIGHT
BEGIN:STANDARD
TZOFFSETFROM:-0300
TZOFFSETTO:-0400
TZNAME:AST
DTSTART:20181104T050000
END:STANDARD
BEGIN:DAYLIGHT
TZOFFSETFROM:-0400
TZOFFSETTO:-0300
TZNAME:ADT
DTSTART:20190310T060000
END:DAYLIGHT
BEGIN:STANDARD
TZOFFSETFROM:-0300
TZOFFSETTO:-0400
TZNAME:AST
DTSTART:20191103T050000
END:STANDARD
END:VTIMEZONE
BEGIN:VTIMEZONE
TZID:Europe/Paris
BEGIN:DAYLIGHT
TZOFFSETFROM:+0100
TZOFFSETTO:+0200
TZNAME:CEST
DTSTART:20170326T010000
END:DAYLIGHT
BEGIN:STANDARD
TZOFFSETFROM:+0200
TZOFFSETTO:+0100
TZNAME:CET
DTSTART:20171029T010000
END:STANDARD
BEGIN:DAYLIGHT
TZOFFSETFROM:+0100
TZOFFSETTO:+0200
TZNAME:CEST
DTSTART:20180325T010000
END:DAYLIGHT
BEGIN:STANDARD
TZOFFSETFROM:+0200
TZOFFSETTO:+0100
TZNAME:CET
DTSTART:20181028T010000
END:STANDARD
BEGIN:DAYLIGHT
TZOFFSETFROM:+0100
TZOFFSETTO:+0200
TZNAME:CEST
DTSTART:20190331T010000
END:DAYLIGHT
BEGIN:STANDARD
TZOFFSETFROM:+0200
TZOFFSETTO:+0100
TZNAME:CET
DTSTART:20191027T010000
END:STANDARD
END:VTIMEZONE
BEGIN:VTIMEZONE
TZID:Africa/Abidjan
BEGIN:STANDARD
TZOFFSETFROM:+0000
TZOFFSETTO:+0000
TZNAME:GMT
DTSTART:20160101T000000
END:STANDARD
END:VTIMEZONE
BEGIN:VEVENT
DTSTART;TZID=Europe/Brussels:20180328T090000
DTEND;TZID=Europe/Brussels:20180328T133000
DTSTAMP:20260422T111237
CREATED:20180320T161328Z
LAST-MODIFIED:20180320T161352Z
UID:1587-1522227600-1522243800@intlms.com
SUMMARY:IMS @ The U.S. Business and Investment Seminar in Brussels
DESCRIPTION:Laurence Carels will be presenting at the U.S. Business and Investment Seminar at the U.S. Embassy in Brussels on March 28th.  Space is limited and registration must be submitted prior to March 19th to SelectUSABelgium@trade.gov. \n 
URL:https://intlms.com/event/ims-u-s-business-and-investment-seminar-in-brussels/
LOCATION:Whitlock Hall/U.S. Embassy\, Zinnerstraat 2 Rue Zinner\, Brussels\, 1000\, Belgium
CATEGORIES:Conferences & Seminars
END:VEVENT
BEGIN:VEVENT
DTSTART;TZID=America/Halifax:20180323T100000
DTEND;TZID=America/Halifax:20180323T130000
DTSTAMP:20260422T111237
CREATED:20180319T221338Z
LAST-MODIFIED:20180319T221545Z
UID:1571-1521799200-1521810000@intlms.com
SUMMARY:IMS @ Journee D'Affaires Etats-Unis
DESCRIPTION:  \nPhoto credit: http://www.completefrance.com/travel/10-alternative-city-breaks-in-france-1-4480096 \nJoin Charlotte Labat for a presentation on March 23rd by SelectUSA in Limoges. \nAU PROGRAMME DU MATIN \nEn présence de Pierre Massy\, président de la CCI de Limoges et de la Haute-Vienne et Daniel E.Hall\, consul des Etats-Unis à Bordeaux. \n\n10h : Programme SelectUSA pour une implantation réussie des entreprises sur le marché américain\nOlivier Collette\, Bureau du Conseiller Commercial\, Ambassade des Etats-Unis à Paris\n\n\n10h30 : Présentation des Conseillers du Commerce Extérieur de la France\nYves Cornu\, Vice-Président des Conseillers du Commerce Extérieur de la France Région Nouvelle-Aquitaine\n\n\n10h45 : Témoignage de l’entreprise ITI Communication\nFrédéric Sudraud\, Président Directeur Général\n\n\n11h : Présentation du réseau Europe Enterprise Network\nCatherine Le Bloa\, Conseillère Industrie et Projets Européens\n\n\n11h15 : Perspectives juridiques\nThomas Thorelli\, Cabinet d’Avocats Thorelli & Associates\, (Chicago et Paris)\n\n\n11h45 : Perspectives fiscales\nCharlotte Labat\, Managing Director France\, International Management Solutions Inc (IMS)\, (Chicago et Bordeaux)
URL:https://intlms.com/event/ims-journee-daffaires-etats-unis/
LOCATION:16 place Jourdan Limoges 87000 France\, 16 Place Jourdan\, Limoges\, 87000\, France
CATEGORIES:Conferences & Seminars
END:VEVENT
BEGIN:VEVENT
DTSTART;TZID=America/Halifax:20180322T093000
DTEND;TZID=America/Halifax:20180322T123000
DTSTAMP:20260422T111237
CREATED:20180320T164126Z
LAST-MODIFIED:20180320T164126Z
UID:1599-1521711000-1521721800@intlms.com
SUMMARY:IMS @ Bordeaux for a U.S. investment Seminar by SelectUSA
DESCRIPTION:Charlotte Labat will be presenting at the SelectUSA seminar in Bordeaux on March 22nd. \nFor registration information please click here. \n 
URL:https://intlms.com/event/ims-bordeaux-for-a-u-s-investment-seminar-by-selectusa/
LOCATION:MEDEF\, Maison de L'Enterprise\, 41 rue Durieu de Maisonneuve\, 33000\, France
CATEGORIES:Conferences & Seminars
END:VEVENT
BEGIN:VEVENT
DTSTART;TZID=Europe/Paris:20180321T133000
DTEND;TZID=Europe/Paris:20180321T170000
DTSTAMP:20260422T111237
CREATED:20180320T162300Z
LAST-MODIFIED:20180320T164324Z
UID:1594-1521639000-1521651600@intlms.com
SUMMARY:IMS In The Dordogne Region For A Presentation About Investing In the U.S.
DESCRIPTION:Join Charlotte Labat for a presentation on March 21st organized by SelectUSA in Dordogne. \n> PROGRAMME \n\n13h30 – Ouverture et introduction par Jean-Baptiste VAN ESLANDE\, Président de la Commission Attractivité Territoriale CCI Dordogne\, par Pierre PRUNIS\, Conseiller en Développement International Entreprises CCI International Nouvelle-Aquitaine et par Daniel HALL\, Consul au Consulat des Etats-Unis à Bordeaux\n\n\n14h00 – Présentation du programme Select USA par Olivier COLLETTE\, Bureau du Conseiller Commercial\, Ambassade des Etats-Unis à Paris\n\n\n14h15 – Perspectives juridiques et sociales sur une implantation réussie aux Etats-Unis par Thomas Torelli du Cabinet d’Avocats Thorelli & Associates\, présent à Chicago et Paris\n\n\n15h00 – Perspectives fiscales sur une implantation réussie aux Etats-Unis par Charlotte Labat\, Managing Director France\, International Management Solutions Inc (IMS)\, présent à Chicago et à Bordeaux\n\n\n15h45 – Témoignage de Patrick PALEM de l’entreprise SOCIETE NOUVELLE DE CONSERVATION ET DE RESTAURATION ARCHEOLOGIQUE (SN SOCRA)\, basée à Marsac sur l’Isle\, sur ses activités aux Etats-Unis\n\n\n16h00 – Questions/Réponses\n\n\n16h30 – Networking
URL:https://intlms.com/event/ims-in-the-dordogne-region-for-a-presentation-about-investing-in-the-u-s/
LOCATION:CCI Dordogne – Pole Interconsulaire\, 295 Boulevard de Saveurs\, Coulounieix-Chamiers\, 24660\, France
CATEGORIES:Conferences & Seminars
END:VEVENT
BEGIN:VEVENT
DTSTART;TZID=America/Halifax:20180213T100000
DTEND;TZID=America/Halifax:20180213T170000
DTSTAMP:20260422T111237
CREATED:20180201T200929Z
LAST-MODIFIED:20180201T211555Z
UID:1529-1518516000-1518541200@intlms.com
SUMMARY:IMS @Orléans CCI International Centre-Val de Loire - US Tax Reform Tour
DESCRIPTION:Suite à la Nouvelle Réforme Fiscale US\, nous vous proposons d’assister à la présentation d’Antoine Guillaud\, Expert-Comptable\, CCEF\, et Président d’International Management Solutions Inc (IMS) à la CCI du Loiret le 13 février prochain ! \nAntoine passera en revue les aspects clefs de la réforme qui impactent les filiales américaines de sociétés françaises. \nCet événement est payant\, Bulletin d’inscription ici . Pour toute question contactez : \nCCI International  Centre – CCI du Loiret\nStéphane Munos\nTél : 02 38 77 77 68\nstephane.munos@loiret.cci.fr \nMaëlle Cloarec\, \nTél : 02 38 25 25 65 \nmaelle.cloarec@centre.cci.fr
URL:https://intlms.com/event/ims-orleans-cci-international-centre-val-de-loire-us-tax-reform/
LOCATION:CCI Loiret\, 23 place du Martroi\, Orléans\, 45044
CATEGORIES:Conferences & Seminars
END:VEVENT
BEGIN:VEVENT
DTSTART;TZID=America/Halifax:20180208T180000
DTEND;TZID=America/Halifax:20180208T193000
DTSTAMP:20260422T111237
CREATED:20180201T190419Z
LAST-MODIFIED:20180201T201432Z
UID:1522-1518112800-1518118200@intlms.com
SUMMARY:IMS @Caen CCI International Normandie – US Tax Reform Tour
DESCRIPTION:Retrouvez Antoine Guillaud à la CCI International Normandie le 8 février 2018 à 18h pour une présentation sur le thème de la Nouvelle Réforme Fiscale : quelles conséquences pour les entreprises françaises ? \n Inscription obligatoire auprès de Guillaume OUINAS – guillaume.ouinas@normandie.cci.fr  \n  \n  \n  \n 
URL:https://intlms.com/event/ims-caen-cci-international-normandie-us-tax-reform/
LOCATION:CCI Normandie\, 1 rue René Cassin\, Saint Contest\, 14280
CATEGORIES:Conferences & Seminars
END:VEVENT
BEGIN:VEVENT
DTSTART;TZID=Europe/Paris:20180207T110000
DTEND;TZID=Europe/Paris:20180207T150000
DTSTAMP:20260422T111237
CREATED:20180126T213617Z
LAST-MODIFIED:20180201T202212Z
UID:1489-1518001200-1518015600@intlms.com
SUMMARY:IMS @Bordeaux Le Bouscat - US Tax Reform Tour
DESCRIPTION:IMS vous invite à la conférence d’Antoine Guillaud\, qui se déroulera en présence du Consul des Etats-Unis\, Monsieur Daniel Hall ainsi que du Président de la Maison de l’Europe\, Monsieur Gwenaël Lamarque\, le mercredi 7 février au Bouscat à Bordeaux ! \nAu programme\, l’US Tax Reform 2017\, sujet brûlant pour les entreprises Françaises faisant du Business aux Etats-Unis\, start-ups\, cabinets d’experts comptables\, avocats en droit international\, et incubateurs. \nInscription Gratuite et Programme auprès de Sébastien Labat : slabat@intlms.com
URL:https://intlms.com/event/ims-presenting-regarding-the-new-us-tax-reform-bordeaux/
LOCATION:Bordeaux Metropole\, 10 Rue Bertrand Hauret\, Bordeaux\, 33110\, France
CATEGORIES:Conferences & Seminars
END:VEVENT
BEGIN:VEVENT
DTSTART;TZID=America/Halifax:20180205T140000
DTEND;TZID=America/Halifax:20180205T160000
DTSTAMP:20260422T111237
CREATED:20180201T210340Z
LAST-MODIFIED:20180201T210533Z
UID:1548-1517839200-1517846400@intlms.com
SUMMARY:IMS @Lyon CCI International Auvergne Rhône Alpes - US Tax Reform Tour
DESCRIPTION:Antoine Guillaud sera reçu le 5 février à Lyon par la CCI International Auvergne Rône Alpes pour une présentation sur la Réforme Fiscale US de décembre 2017.  \nCette réforme fiscale présente des challenges et des opportunités qui vont avoir un impact important sur les entreprises françaises ayant un projet de filiale aux Etats Unis ou ayant déjà une filiale américaine. \nCet impact sera significatif notamment sur le financement\, la politique d’investissement\, les pratiques de comptabilité fiscale et  la stratégie de prix de transfert. \nCet événement est sur invitation uniquement\, si vous souhaitez y participer veuillez contacter Sydney Fleurance : sfleurance@intlms.com
URL:https://intlms.com/event/ims-lyon-cci-international-auvergne-rhone-alpes-us-tax-reform-tour/
LOCATION:CCI International Auvergne Rhône Alpes\, 32 Quai Perrache\, Lyon\, 69002
CATEGORIES:Conferences & Seminars
END:VEVENT
BEGIN:VEVENT
DTSTART;TZID=America/Halifax:20180201T100000
DTEND;TZID=America/Halifax:20180201T160000
DTSTAMP:20260422T111237
CREATED:20180201T154635Z
LAST-MODIFIED:20180201T211034Z
UID:1513-1517479200-1517500800@intlms.com
SUMMARY:IMS @Lille Conseil Régional Hauts de France – US Tax Reform Tour
DESCRIPTION:Antoine Guillaud will give a presentation about the New U.S. Tax Reform\, challenges and opportunities in Lille on February 1 st\, 2018 ! \nPresentation will be followed by a lunch and individual meetings – participants must register. \nFor registration information please contact Eugène Johnson : eugene.johnson@hautsdefrance.fr
URL:https://intlms.com/event/ims-lille-conseil-regional-hauts-de-france-us-tax-reform/
LOCATION:Conseil Regional Hauts de France\, 151 Avenue du président Hoover\, Lille\, 59555\, France
CATEGORIES:Conferences & Seminars
END:VEVENT
BEGIN:VEVENT
DTSTART;TZID=Europe/Paris:20180131T093000
DTEND;TZID=Europe/Paris:20180131T170000
DTSTAMP:20260422T111237
CREATED:20180126T212532Z
LAST-MODIFIED:20180201T211420Z
UID:1484-1517391000-1517418000@intlms.com
SUMMARY:IMS @Marseille CCI International PACA - US Tax Reform Tour
DESCRIPTION:Antoine Guillaud will be presenting the challenges and opportunities of the New US Tax Reform at the CCI International Provence Alpes Côte d’Azur (PACA) in Marseille on January 31\, 2018. \nFor registration and information please contact Patricia Losi-Dahout : patricia.dahout@paca.cci.fr  
URL:https://intlms.com/event/ims-marseille-cciinternationalpaca-tax-reform-event-january-31/
LOCATION:Palais de la Bourse\, 9 La Canebiere\, Marseille\, 13001\, France
CATEGORIES:Conferences & Seminars
END:VEVENT
BEGIN:VEVENT
DTSTART;TZID=America/Halifax:20180126T083000
DTEND;TZID=America/Halifax:20180126T143000
DTSTAMP:20260422T111237
CREATED:20180125T214655Z
LAST-MODIFIED:20180125T232658Z
UID:1455-1516955400-1516977000@intlms.com
SUMMARY:The IMS Institute - Peer to Peer Business Group : 1st session on January 26th 2018 !
DESCRIPTION:The IMS Institute – Peer to Peer Business Group\nThe IMS Peer to Peer Business group est un groupe collaboratif qui permet à ses participants d’apprendre des insights et des suggestions de ses pairs à travers des échanges enrichissants. Lors de cette session\, les participants profiteront également d’un Workshop unique avec Barry Mixon\, professeur du Seagull Institute et expert en Storytelling. Barry leur apprendra à utiliser cette technique de communication narrative pour capter l’attention\, susciter l’émotion et ainsi accroître la valeur perçue de leur entreprise ou de leur produits. \n \n> Programme de la journée : \n08h30 – 09h00 : Check-in des participants & petit déjeuner \n9h00 – 9h15 : Présentation du Projet par Antoine Guillaud\, Président d’IMS\, CCEF et Expert Comptable \n9h15 – 10h15 : IMS Peer to Peer Business Group – Animé par Jonathan Broutin\, Président Fondateur Seagull \n10h15 – 12h15 : Storytelling Workshop avec Barry Mixon\, Director of Transformational Empowerment at Seagull \n12h15 – 12h45 : Débriefing animé par Jonathan Broutin – “Lessons Learned” \n13h00 – 14h30 : Les participants sont conviés à un déjeuner au restaurant Exchequer à la suite de la matinée de  formation. Ce repas leur offrira l’opportunité d’un échange informel dans une ambiance conviviale entre les membres du Peer to Peer groupe et l’équipe d’IMS.
URL:https://intlms.com/event/ims-institute-peer-to-peer-group-1st-session-on-january-26th-2018/
LOCATION:De Paul University\, 1 East Jackson Blvd\, Chicago\, IL\, 60604\, United States
CATEGORIES:Conferences & Seminars
END:VEVENT
BEGIN:VEVENT
DTSTART;VALUE=DATE:20171212
DTEND;VALUE=DATE:20171214
DTSTAMP:20260422T111237
CREATED:20170526T203137Z
LAST-MODIFIED:20210121T122513Z
UID:1174-1513036800-1513209599@intlms.com
SUMMARY:IMS @ CAMX 2017
DESCRIPTION:Meet IMS at the CAMX composites show in Orlando December 12-13th! \nIMS will attend the CAMX composites and advanced materials show in Orlando Florida organized by ACMA and SAMPE.  CAMX attracts 8\,000+ attendees and 550 exhibitors. Meet with Sydney Fleurance at the Business France French Pavilion to discuss opportunities to setup business in the U.S. or any fiscal\, legal and social subject. \nTo schedule a meeting please contact us at info@intlms.com \n \n 
URL:https://intlms.com/event/camx/
LOCATION:Orange County Convention Center\, Orlando
CATEGORIES:Conferences & Seminars,Tradeshows
END:VEVENT
BEGIN:VEVENT
DTSTART;VALUE=DATE:20171029
DTEND;VALUE=DATE:20171103
DTSTAMP:20260422T111237
CREATED:20180201T204926Z
LAST-MODIFIED:20180201T204926Z
UID:1327-1509235200-1509667199@intlms.com
SUMMARY:IMS @ the French Pavilion at ITS World Congress 2017
DESCRIPTION:IMS will be present at the ITS Show with the Business France Delegation on October 29th & 30th !  \nFor more information please contact Agathe Damour: agathe.damour@businessfrance.fr
URL:https://intlms.com/event/ims-the-french-pavilion-at-its-world-congress-2017/
LOCATION:Palais des congrès de Montréal\, 1001 Place Jean-Paul-Riopelle\, Montréal QC\, H2Z 1H5\, Canada
CATEGORIES:Conferences & Seminars
END:VEVENT
BEGIN:VEVENT
DTSTART;VALUE=DATE:20171009
DTEND;VALUE=DATE:20171011
DTSTAMP:20260422T111237
CREATED:20170724T220527Z
LAST-MODIFIED:20170822T161000Z
UID:1330-1507507200-1507679999@intlms.com
SUMMARY:IMS at APTA EXPO 2017
DESCRIPTION:IMS will attend the APTA EXPO railway trade show on October 9-10th with Business France. \nAntoine\, President of IMS\, will be attending the French cocktail reception organized by Business France on October 9th. He will also be presenting “Doing business in the US” to the French Delegation on October 10th\, and will be available to discuss any questions regarding doing business in the U.S. or any fiscal\, legal and social subject. \nThe EXPO spans a variety of industry topics: transformative technology\, community building\, safety\, workforce\, public transit solutions\, innovative funding and finance and more.  APTA’s annual meeting will convene at the Georgia World Congress Center in Atlanta. \nTo schedule a meeting with Antoine please email our office at info@intlms.com
URL:https://intlms.com/event/ims-at-apta-expo/
LOCATION:Georgia World Congress Center\, C\, 285 Andrew Young International Blvd\, NW\, Atlanta\, GA\, 30313 \, United States
CATEGORIES:Conferences & Seminars
END:VEVENT
BEGIN:VEVENT
DTSTART;VALUE=DATE:20170918
DTEND;VALUE=DATE:20170923
DTSTAMP:20260422T111237
CREATED:20170724T203539Z
LAST-MODIFIED:20170901T195102Z
UID:1298-1505692800-1506124799@intlms.com
SUMMARY:IMS @ Smart Factory Connection Tour 2017
DESCRIPTION:IMS at the Smart Factory Tour in Chicago and Detroit\, September 18 and 22nd. \nThe Smart Factory Connection tour is brought to you by BusinessFrance and DGE : 8 innovative companies are selected to participate in this program. Antoine Guillaud\, President of IMS\, will present “Doing business in the U.S.” at the Chicago session on September 18th. \nThis first session in Chicago will be followed by a Networking Cocktail on September 22nd in Detroit where Hugues Retif and Sydney Fleurance will be present. \nThe IMS Team will be available\, on both events\, to answer all your questions regarding doing business in the U.S. or any fiscal\, legal and social subject. If you would like to set-up a meeting feel free to contact us at info@intlms.com
URL:https://intlms.com/event/smart-factory-connection-tour-2017/
CATEGORIES:Conferences & Seminars
END:VEVENT
BEGIN:VEVENT
DTSTART;TZID=America/Halifax:20170907T180000
DTEND;TZID=America/Halifax:20170907T203000
DTSTAMP:20260422T111237
CREATED:20170811T174914Z
LAST-MODIFIED:20170822T163508Z
UID:1352-1504807200-1504816200@intlms.com
SUMMARY:How to do Business in the US - Fifteen24 & IMS September 7th
DESCRIPTION:International Management Solutions Inc. and Fifteen24 are happy to invite you to the “How to do business in the US?” seminar. Mathieu Lanssens\, CEO of Fifteen24 and Laurence Carels\, IMS Benelux Manager\, will give a presentation (see program below)\, followed by a networking meeting. The event will take place in Gent\, Belgium\, on September 7th from 6pm to 8:30pm. Mathieu and Laurence will both be available to answer any questions you may have regarding the launch and development of your business in the US. \n6-7 pm : Introduction by Mathieu Lanssens: Who is Fifteen24 ? \nThe story of Fifteen24. From a dream\, to a concept\, to a startup in New York City. \nTheir services and their mission- a  4 month program advising entrepreneurs who have the ambition and dream to launch their business in U.S. \n7-7.30pm : Laurence Carels\, IMS Benelux Manager – Doing business in the US : Practical matters. \nWho is IMS? An accounting\, tax and consulting firm dedicated to assisting European companies with setting up their businesses in the US. \nLaurence will present an overview of fiscal\, social\, and set-up aspects you need to know. \n7.30-8.30pm : Networking with American snacks & drinks. \nSign up for this complimentary event by registering here !
URL:https://intlms.com/event/how-to-do-business-in-the-us-fifteen24-ims-september-7th/
LOCATION:Fifteen24\, 106 Ferdinand Lousbergskaai \, Gent\, 9000\, Belgium
CATEGORIES:Conferences & Seminars
END:VEVENT
BEGIN:VEVENT
DTSTART;VALUE=DATE:20170614
DTEND;VALUE=DATE:20170617
DTSTAMP:20260422T111237
CREATED:20170526T201055Z
LAST-MODIFIED:20170626T214656Z
UID:1148-1497398400-1497657599@intlms.com
SUMMARY:OMTEC
DESCRIPTION:Antoine Guillaud and Sydney Fleurance will be at OMTEC 2017 the 13th Annual Orthopaedic Manufacturing & Technology Exposition and Conference taking place at the Donald E. Stephens Convention Center in Chicago June 14-15th.  The international exposition offers opportunities for suppliers\, service providers\, Orthopaedic OEM professionals from the industry connect. \nIf you would like to set-up a meeting feel free to contact us at info@intlms.com
URL:https://intlms.com/event/omtec/
LOCATION:Donald E. Stephens Convention Center\, 5555 N River Rd\, Rosement\, IL\, 60018\, United States
CATEGORIES:Conferences & Seminars
END:VEVENT
BEGIN:VEVENT
DTSTART;VALUE=DATE:20170604
DTEND;VALUE=DATE:20170606
DTSTAMP:20260422T111237
CREATED:20170526T202440Z
LAST-MODIFIED:20170626T214850Z
UID:1157-1496534400-1496707199@intlms.com
SUMMARY:UbiMobility Délegation
DESCRIPTION:IMS at Ubimobility 2017 in Detroit on June 4-5th  ! \nFrom automotive centers in Detroit to the venture capitalist firms in San Francisco\, UbiMobility is a two week immersion program for the top 8 selected participants in the connected/autonomous vehicle industry.  The delegation is organized by BusinessFrance and connects U.S. Automotive experts with the delegates.  The program offers 10 months of personalized collaboration beyond the two week immersive trip. \nMeet with Antoine Guillaud\, President of IMS\, June 4-5th at the UbiMobility delegation\, who will be giving a presentation about “Doing Business in the US – Fiscal\, legal and social aspects“ to the 8 French startups.
URL:https://intlms.com/event/ubimobility-delegation/
LOCATION:Détroit\, MI\, Detroit\, United States
CATEGORIES:Conferences & Seminars
END:VEVENT
BEGIN:VEVENT
DTSTART;VALUE=DATE:20170426
DTEND;VALUE=DATE:20170427
DTSTAMP:20260422T111237
CREATED:20170524T155131Z
LAST-MODIFIED:20170626T215021Z
UID:1132-1493164800-1493251199@intlms.com
SUMMARY:The American Dream in the Modern Era
DESCRIPTION:Laurence Carels\, our IMS Benelux Manager will be participating at The American Dream in the Modern Era on Wednesday April 26th. \nLaurence will be available to answer all your questions regarding doing business in the U.S. or any fiscal and social subject. If you would like to set-up a meeting feel free to contact us at info@intlms.com \nFor more information regarding the event : http://hubs.ly/H07dhWz0
URL:https://intlms.com/event/the-american-dream-in-the-modern-era/
LOCATION:Corda Campus\, Kempische Steenweg 293\, Hasselt\, 3500\, Belgium
CATEGORIES:Conferences & Seminars
END:VEVENT
BEGIN:VEVENT
DTSTART;VALUE=DATE:20170126
DTEND;VALUE=DATE:20170127
DTSTAMP:20260422T111237
CREATED:20170524T154709Z
LAST-MODIFIED:20170626T215101Z
UID:1124-1485388800-1485475199@intlms.com
SUMMARY:IMS in Marseille
DESCRIPTION:Jeudi 26 Janvier 2017\, Antoine Guillaud parlera d’implantation aux Etats-Unis lors de la Conférence « Doing Business aux Etats-Unis : Considération Juridiques\, fiscales & Sociales » organisée par la CCI International Provence Alpes Côte d’Azur.
URL:https://intlms.com/event/ims-in-marseille/
LOCATION:Marseille\, France\, Marseille\, France
CATEGORIES:Conferences & Seminars
END:VEVENT
BEGIN:VEVENT
DTSTART;VALUE=DATE:20170125
DTEND;VALUE=DATE:20170126
DTSTAMP:20260422T111237
CREATED:20170524T153952Z
LAST-MODIFIED:20170626T215044Z
UID:1122-1485302400-1485388799@intlms.com
SUMMARY:IMS in Toulouse
DESCRIPTION:Antoine Guillaud\, Président d’IMS interviendra à Toulouse le mercredi 25 janvier lors de la Conférence « Préparer une implantation aux USA » organisée par le Consulat des Etats-Unis de Toulouse et la CCI Midi-Pyrénées\, en partenariat avec Select USA.
URL:https://intlms.com/event/ims-in-toulouse/
LOCATION:Toulouse\, France\, Toulouse\, France
CATEGORIES:Conferences & Seminars
END:VEVENT
BEGIN:VEVENT
DTSTART;VALUE=DATE:20170124
DTEND;VALUE=DATE:20170125
DTSTAMP:20260422T111237
CREATED:20170524T153642Z
LAST-MODIFIED:20170626T215056Z
UID:1120-1485216000-1485302399@intlms.com
SUMMARY:IMS in Bordeaux
DESCRIPTION:Antoine Guillaud sera à Bordeaux le mardi 24 janvier pour présenter Perspectives fiscales sur une implantation réussie aux Etats-Unis. Cette présentation se tiendra lors de la Conférence « Pourquoi investir aux Etats-Unis? » organisée par Select USA et le Consulat des Etats-Unis de Bordeaux\, Daniel Hall.
URL:https://intlms.com/event/ims-in-bordeaux/
LOCATION:Bordeaux\, France\, Bordeaux\, France
CATEGORIES:Conferences & Seminars
END:VEVENT
BEGIN:VEVENT
DTSTART;VALUE=DATE:20161010
DTEND;VALUE=DATE:20161011
DTSTAMP:20260422T111238
CREATED:20170509T000819Z
LAST-MODIFIED:20170626T215130Z
UID:1047-1476057600-1476143999@intlms.com
SUMMARY:IMS Invites you to join us at the Club World Trade Center in Strasbourg October 10th
DESCRIPTION:Antoine Guillaud will be presenting regarding doing business in the U.S. at the World Trade Center (WTC) in Strasbourg October 10th organized by CCI International Alsace Export. \nIMS would be happy to meet with you before or after the event to answer any questions you may have about tax\, HR and/or accounting.  Please send our office an email at info@intlms.com to set-up a meeting.  More information regarding the event available at the CCI Alsace website.
URL:https://intlms.com/event/ims-invites-you-to-join-us-at-the-club-world-trade-center-in-strasbourg-october-10th/
LOCATION:U.S. at the World Trade Center (WTC) in Strasbourg
CATEGORIES:Conferences & Seminars
END:VEVENT
END:VCALENDAR